BEGIN:VCALENDAR
VERSION:2.0
PRODID:-//United States Krav Maga Association - ECPv6.9.0//NONSGML v1.0//EN
CALSCALE:GREGORIAN
METHOD:PUBLISH
X-ORIGINAL-URL:https://uskma.net
X-WR-CALDESC:Events for United States Krav Maga Association
REFRESH-INTERVAL;VALUE=DURATION:PT1H
X-Robots-Tag:noindex
X-PUBLISHED-TTL:PT1H
BEGIN:VTIMEZONE
TZID:America/Chicago
BEGIN:DAYLIGHT
TZOFFSETFROM:-0600
TZOFFSETTO:-0500
TZNAME:CDT
DTSTART:20190310T080000
END:DAYLIGHT
BEGIN:STANDARD
TZOFFSETFROM:-0500
TZOFFSETTO:-0600
TZNAME:CST
DTSTART:20191103T070000
END:STANDARD
BEGIN:DAYLIGHT
TZOFFSETFROM:-0600
TZOFFSETTO:-0500
TZNAME:CDT
DTSTART:20200308T080000
END:DAYLIGHT
BEGIN:STANDARD
TZOFFSETFROM:-0500
TZOFFSETTO:-0600
TZNAME:CST
DTSTART:20201101T070000
END:STANDARD
END:VTIMEZONE
BEGIN:VEVENT
DTSTART;TZID=America/Chicago:20201212T080000
DTEND;TZID=America/Chicago:20201212T153000
DTSTAMP:20260421T044948
CREATED:20201104T193543Z
LAST-MODIFIED:20201104T193543Z
UID:2302-1607760000-1607787000@uskma.net
SUMMARY:USKMA Regional Testing - Ft. Myers
DESCRIPTION:USKMA belt testing for all levels. Testing graded by USKMA founder\, Mark Slane
URL:https://uskma.net/event/uskma-regional-testing-ft-myers/
LOCATION:New World: Krav Maga & CrossFit\, 13790 Treeline Ave S\, Ste 4\, Fort Myers\, FL\, 33913\, United States
CATEGORIES:Regional Level Testing
END:VEVENT
BEGIN:VEVENT
DTSTART;TZID=America/Chicago:20190601T090000
DTEND;TZID=America/Chicago:20190601T140000
DTSTAMP:20260421T044948
CREATED:20190311T192554Z
LAST-MODIFIED:20190311T192637Z
UID:1547-1559379600-1559397600@uskma.net
SUMMARY:USKMA Regional Level Testing
DESCRIPTION:Founder Mark Slane will be testing levels 2 through 5. Contact for details.
URL:https://uskma.net/event/uskma-regional-level-testing/
LOCATION:Mt. Pleasant Martial Arts\, 114 N. Jefferson Ave.\, Mt. Pleasant\, TX\, 75455\, United States
CATEGORIES:Regional Level Testing
ATTACH;FMTTYPE=image/png:https://uskma.net/wp-content/uploads/2018/01/USKMA-PATRIOTIC-SKULLS-front-art-min.png
END:VEVENT
END:VCALENDAR